BEGIN:VCALENDAR
VERSION:2.0
PRODID:-//Giorgos Thymis, International Piano Competition - ECPv6.15.17.1//NONSGML v1.0//EN
CALSCALE:GREGORIAN
METHOD:PUBLISH
X-WR-CALNAME:Giorgos Thymis, International Piano Competition
X-ORIGINAL-URL:https://thymiscompetition.gr/en/
X-WR-CALDESC:Events for Giorgos Thymis, International Piano Competition
REFRESH-INTERVAL;VALUE=DURATION:PT1H
X-Robots-Tag:noindex
X-PUBLISHED-TTL:PT1H
BEGIN:VTIMEZONE
TZID:UTC
BEGIN:STANDARD
TZOFFSETFROM:+0000
TZOFFSETTO:+0000
TZNAME:UTC
DTSTART:20220101T000000
END:STANDARD
END:VTIMEZONE
BEGIN:VEVENT
DTSTART;TZID=UTC:20230117T191000
DTEND;TZID=UTC:20230117T201000
DTSTAMP:20260420T122639
CREATED:20230115T203939Z
LAST-MODIFIED:20230116T050518Z
UID:7760-1673982600-1673986200@thymiscompetition.gr
SUMMARY:Jinling Piao (CHINA)
DESCRIPTION:Repertoire \nL. v. Beethoven   Sonata No. 30 in E major\, Op. 109 \nF. Chopin  Preludes No. 1 – 12\, from 24 Preludes\, Op. 28 \nA. Scriabin  Sonata No. 4 in F-sharp major\, Op. 30
URL:https://thymiscompetition.gr/en/event/jinling-piao-china-2/
LOCATION:Thessaloniki State Symphony Orchestra “Solon Michaelides” concert hall\, Nikis avenue 73\, Thessaloniki\, 54622\, Ελλάδα
CATEGORIES:Semifinal Round
ATTACH;FMTTYPE=image/jpeg:https://thymiscompetition.gr/wp-content/uploads/2023/01/IMG_3365-scaled-1.jpg
ORGANIZER;CN="Friends%E2%80%99 Society of the Thessaloniki State Symphony Orchestra":MAILTO:info@thymiscompetition.gr
END:VEVENT
BEGIN:VEVENT
DTSTART;TZID=UTC:20230117T181000
DTEND;TZID=UTC:20230117T191000
DTSTAMP:20260420T122639
CREATED:20230115T201437Z
LAST-MODIFIED:20230116T051305Z
UID:7724-1673979000-1673982600@thymiscompetition.gr
SUMMARY:Mana Shoji (JAPAN)
DESCRIPTION:Repertoire \nL. v. Beethoven  Sonata No. 31 in A-ﬂat major\, Op. 110 \nR. Schumann  Fantasiestücke\, Op. 12 \nM. Ravel  “Forlane”\, “Rigaudon”\, “Toccata”\, from Le tombeau de Couperin
URL:https://thymiscompetition.gr/en/event/mana-shoji-japan-2/
LOCATION:Thessaloniki State Symphony Orchestra “Solon Michaelides” concert hall\, Nikis avenue 73\, Thessaloniki\, 54622\, Ελλάδα
CATEGORIES:Semifinal Round
ATTACH;FMTTYPE=image/jpeg:https://thymiscompetition.gr/wp-content/uploads/2023/01/IMG_6416-1.jpg
ORGANIZER;CN="Friends%E2%80%99 Society of the Thessaloniki State Symphony Orchestra":MAILTO:info@thymiscompetition.gr
END:VEVENT
BEGIN:VEVENT
DTSTART;TZID=UTC:20230117T170000
DTEND;TZID=UTC:20230117T180000
DTSTAMP:20260420T122639
CREATED:20230115T201227Z
LAST-MODIFIED:20230116T051630Z
UID:7731-1673974800-1673978400@thymiscompetition.gr
SUMMARY:Jaskeerat Singh Gill (MALAYSIA)
DESCRIPTION:Repertoire \nL. v. Beethoven  Sonata No. 30 in E major\, Op. 109 \nR. Schumann  Kreisleriana\, Op. 16 \nE. Rautavaara  Etude Op. 42 No. 1
URL:https://thymiscompetition.gr/en/event/jaskeerat-singh-gill-malaysia-2/
LOCATION:Thessaloniki State Symphony Orchestra “Solon Michaelides” concert hall\, Nikis avenue 73\, Thessaloniki\, 54622\, Ελλάδα
CATEGORIES:Semifinal Round
ATTACH;FMTTYPE=image/jpeg:https://thymiscompetition.gr/wp-content/uploads/2023/01/Kunstleriches-Bild-2-scaled-1.jpg
ORGANIZER;CN="Friends%E2%80%99 Society of the Thessaloniki State Symphony Orchestra":MAILTO:info@thymiscompetition.gr
END:VEVENT
BEGIN:VEVENT
DTSTART;TZID=UTC:20230117T131000
DTEND;TZID=UTC:20230117T141000
DTSTAMP:20260420T122639
CREATED:20230115T202845Z
LAST-MODIFIED:20230116T050931Z
UID:7752-1673961000-1673964600@thymiscompetition.gr
SUMMARY:Nohyoung Kim (S. KOREA)
DESCRIPTION:Repertoire \nL. v. Beethoven  Sonata No. 13 in E-ﬂat major\, Op. 27 No. 1 \nR. Schumann  Kreisleriana\, Op. 16 \nA. Scriabin  Sonata No. 5\, Op. 53
URL:https://thymiscompetition.gr/en/event/nohyoung-kim-s-korea-2/
LOCATION:Thessaloniki State Symphony Orchestra “Solon Michaelides” concert hall\, Nikis avenue 73\, Thessaloniki\, 54622\, Ελλάδα
CATEGORIES:Semifinal Round
ATTACH;FMTTYPE=image/jpeg:https://thymiscompetition.gr/wp-content/uploads/2023/01/프로필-_염색ver.-1.jpg
ORGANIZER;CN="Friends%E2%80%99 Society of the Thessaloniki State Symphony Orchestra":MAILTO:info@thymiscompetition.gr
END:VEVENT
BEGIN:VEVENT
DTSTART;TZID=UTC:20230117T121000
DTEND;TZID=UTC:20230117T131000
DTSTAMP:20260420T122639
CREATED:20230115T201709Z
LAST-MODIFIED:20230116T051952Z
UID:7736-1673957400-1673961000@thymiscompetition.gr
SUMMARY:Junhui Chen (CHINA)
DESCRIPTION:Repertoire \nL. v. Beethoven  Sonata No. 7 in F major\, Op. 10 No. 2 \nR. Schumann  Carnaval\, Op. 9 \nB. Bartók  Sonata “Tanz Suite”\, Sz. 77
URL:https://thymiscompetition.gr/en/event/junhui-chen-china-2/
LOCATION:Thessaloniki State Symphony Orchestra “Solon Michaelides” concert hall\, Nikis avenue 73\, Thessaloniki\, 54622\, Ελλάδα
CATEGORIES:Semifinal Round
ATTACH;FMTTYPE=image/jpeg:https://thymiscompetition.gr/wp-content/uploads/2023/01/image0-scaled-1.jpeg
ORGANIZER;CN="Friends%E2%80%99 Society of the Thessaloniki State Symphony Orchestra":MAILTO:info@thymiscompetition.gr
END:VEVENT
BEGIN:VEVENT
DTSTART;TZID=UTC:20230117T110000
DTEND;TZID=UTC:20230117T120000
DTSTAMP:20260420T122639
CREATED:20230115T202443Z
LAST-MODIFIED:20230116T052547Z
UID:7748-1673953200-1673956800@thymiscompetition.gr
SUMMARY:Zu-An Shen (CHINA)
DESCRIPTION:Repertoire \nL. v. Beethoven   Sonata No. 32 in C minor\, Op. 111 \nS. Rachmaninoff   Sonata No. 2 in B-ﬂat minor\, Op. 36 \nE. Granados  “Los Requiebros”\, from Goyescas
URL:https://thymiscompetition.gr/en/event/zu-an-shen-china-2/
LOCATION:Thessaloniki State Symphony Orchestra “Solon Michaelides” concert hall\, Nikis avenue 73\, Thessaloniki\, 54622\, Ελλάδα
CATEGORIES:Semifinal Round
ATTACH;FMTTYPE=image/jpeg:https://thymiscompetition.gr/wp-content/uploads/2023/01/Zu-An-Shen-scaled-1.jpg
ORGANIZER;CN="Friends%E2%80%99 Society of the Thessaloniki State Symphony Orchestra":MAILTO:info@thymiscompetition.gr
END:VEVENT
BEGIN:VEVENT
DTSTART;TZID=UTC:20230116T191000
DTEND;TZID=UTC:20230116T201000
DTSTAMP:20260420T122639
CREATED:20230115T200934Z
LAST-MODIFIED:20230116T052918Z
UID:7727-1673896200-1673899800@thymiscompetition.gr
SUMMARY:Hana Igawa (JAPAN)
DESCRIPTION:Repertoire\n\nL. v. Beethoven  Sonata No. 7 in D major\, Op. 10 No. 3 \nF. Chopin  Impromptu No. 3 Op. 51 \nS. Prokoﬁev  Sonata No. 8 in B-ﬂat major\, Op. 84
URL:https://thymiscompetition.gr/en/event/hana-igawa-japan-2/
LOCATION:Thessaloniki State Symphony Orchestra “Solon Michaelides” concert hall\, Nikis avenue 73\, Thessaloniki\, 54622\, Ελλάδα
CATEGORIES:Semifinal Round
ATTACH;FMTTYPE=image/jpeg:https://thymiscompetition.gr/wp-content/uploads/2023/01/1637709651054-1.jpg
ORGANIZER;CN="Friends%E2%80%99 Society of the Thessaloniki State Symphony Orchestra":MAILTO:info@thymiscompetition.gr
END:VEVENT
BEGIN:VEVENT
DTSTART;TZID=UTC:20230116T181000
DTEND;TZID=UTC:20230116T191000
DTSTAMP:20260420T122639
CREATED:20230115T204145Z
LAST-MODIFIED:20230116T053132Z
UID:7764-1673892600-1673896200@thymiscompetition.gr
SUMMARY:Jose Navarro Silberstein (BOLIVIA)
DESCRIPTION:Repertoire \nL. v. Beethoven  Sonata No. 27 in E minor\, Οp. 90 \nR. Schumann  Davidsbündlertänze\, Op. 6 \nH. Villa-Lobos  Ciclo brasileiro\, W 374
URL:https://thymiscompetition.gr/en/event/jose-navarro-silberstein-bolivia-2/
LOCATION:Thessaloniki State Symphony Orchestra “Solon Michaelides” concert hall\, Nikis avenue 73\, Thessaloniki\, 54622\, Ελλάδα
CATEGORIES:Semifinal Round
ATTACH;FMTTYPE=image/jpeg:https://thymiscompetition.gr/wp-content/uploads/2023/01/Jose-Andres-Navarro-Silberstein-1-scaled-1.jpg
ORGANIZER;CN="Friends%E2%80%99 Society of the Thessaloniki State Symphony Orchestra":MAILTO:info@thymiscompetition.gr
END:VEVENT
BEGIN:VEVENT
DTSTART;TZID=UTC:20230116T170000
DTEND;TZID=UTC:20230116T180000
DTSTAMP:20260420T122639
CREATED:20230115T202216Z
LAST-MODIFIED:20230116T054211Z
UID:7744-1673888400-1673892000@thymiscompetition.gr
SUMMARY:Yuewen Yu (CHINA)
DESCRIPTION:Repertoire \nL. v. Beethoven   Sonata No. 28 in A major\, Op. 101 \nR. Schumann  Symphonic Etudes\, Op. 13 \nO. Messiaen  “Le Baiser de l’Enfant-Jésus”\, from Regards sur l’Enfant-Jésus
URL:https://thymiscompetition.gr/en/event/yuewen-yu-china-2/
LOCATION:Thessaloniki State Symphony Orchestra “Solon Michaelides” concert hall\, Nikis avenue 73\, Thessaloniki\, 54622\, Ελλάδα
CATEGORIES:Semifinal Round
ATTACH;FMTTYPE=image/jpeg:https://thymiscompetition.gr/wp-content/uploads/2023/01/2017_09_19_14_50_IMG_0030-scaled-1.jpg
ORGANIZER;CN="Friends%E2%80%99 Society of the Thessaloniki State Symphony Orchestra":MAILTO:info@thymiscompetition.gr
END:VEVENT
BEGIN:VEVENT
DTSTART;TZID=UTC:20230116T131000
DTEND;TZID=UTC:20230116T141000
DTSTAMP:20260420T122639
CREATED:20230115T203052Z
LAST-MODIFIED:20230116T062506Z
UID:7756-1673874600-1673878200@thymiscompetition.gr
SUMMARY:Filivos Gkatzios (GREECE)
DESCRIPTION:Repertoire \nL. v. Beethoven  Sonata No. 10 in G major\, Op. 14 No. 1 \nF. Chopin  Scherzo No. 2 in B flat minor\, Op. 31 \nS. Prokoﬁev  Suggestion Diabolique\, Op. 4 No. 4
URL:https://thymiscompetition.gr/en/event/filivos-gkatzios-greece-2/
LOCATION:Thessaloniki State Symphony Orchestra “Solon Michaelides” concert hall\, Nikis avenue 73\, Thessaloniki\, 54622\, Ελλάδα
CATEGORIES:Semifinal Round
ATTACH;FMTTYPE=image/jpeg:https://thymiscompetition.gr/wp-content/uploads/2023/01/ADCC38B9-B248-455C-B20E-5FC4CAC65AC6_1_201_a-scaled-1.jpeg
ORGANIZER;CN="Friends%E2%80%99 Society of the Thessaloniki State Symphony Orchestra":MAILTO:info@thymiscompetition.gr
END:VEVENT
BEGIN:VEVENT
DTSTART;TZID=UTC:20230116T121000
DTEND;TZID=UTC:20230116T131000
DTSTAMP:20260420T122639
CREATED:20230115T202011Z
LAST-MODIFIED:20230116T054903Z
UID:7740-1673871000-1673874600@thymiscompetition.gr
SUMMARY:Umberto Ruboni (ITALY)
DESCRIPTION:Repertoire\n\nL. v. Beethoven  Sonata No. 3 in C major\, Op. 2 \nF. Chopin  Scherzo No. 1 in B minor\, Op. 20\n \nM. Ravel  Gaspard de la nuit
URL:https://thymiscompetition.gr/en/event/umberto-ruboni-italy-2/
LOCATION:Thessaloniki State Symphony Orchestra “Solon Michaelides” concert hall\, Nikis avenue 73\, Thessaloniki\, 54622\, Ελλάδα
CATEGORIES:Semifinal Round
ATTACH;FMTTYPE=image/jpeg:https://thymiscompetition.gr/wp-content/uploads/2023/01/Glafsfjorden-2022-1.jpg
ORGANIZER;CN="Friends%E2%80%99 Society of the Thessaloniki State Symphony Orchestra":MAILTO:info@thymiscompetition.gr
END:VEVENT
BEGIN:VEVENT
DTSTART;TZID=UTC:20230116T110000
DTEND;TZID=UTC:20230116T120000
DTSTAMP:20260420T122639
CREATED:20230115T204502Z
LAST-MODIFIED:20230116T055359Z
UID:7768-1673866800-1673870400@thymiscompetition.gr
SUMMARY:Linda Lee (S. KOREA)
DESCRIPTION:Repertoire \nL. v. Beethoven  Sonata No. 32 in C minor\, Op. 111 \nJ. Brahms  7 Fantasien\, Op. 116 \nB. Bartók  Out of Doors\, Sz. 81
URL:https://thymiscompetition.gr/en/event/linda-lee-s-korea-2/
LOCATION:Thessaloniki State Symphony Orchestra “Solon Michaelides” concert hall\, Nikis avenue 73\, Thessaloniki\, 54622\, Ελλάδα
CATEGORIES:Semifinal Round
ATTACH;FMTTYPE=image/jpeg:https://thymiscompetition.gr/wp-content/uploads/2023/01/profile-photo-2-scaled-1.jpg
ORGANIZER;CN="Friends%E2%80%99 Society of the Thessaloniki State Symphony Orchestra":MAILTO:info@thymiscompetition.gr
END:VEVENT
END:VCALENDAR