BEGIN:VCALENDAR
VERSION:2.0
PRODID:-//Giorgos Thymis, International Piano Competition - ECPv6.15.17.1//NONSGML v1.0//EN
CALSCALE:GREGORIAN
METHOD:PUBLISH
X-ORIGINAL-URL:https://thymiscompetition.gr/en/
X-WR-CALDESC:Events for Giorgos Thymis, International Piano Competition
REFRESH-INTERVAL;VALUE=DURATION:PT1H
X-Robots-Tag:noindex
X-PUBLISHED-TTL:PT1H
BEGIN:VTIMEZONE
TZID:UTC
BEGIN:STANDARD
TZOFFSETFROM:+0000
TZOFFSETTO:+0000
TZNAME:UTC
DTSTART:20220101T000000
END:STANDARD
END:VTIMEZONE
BEGIN:VEVENT
DTSTART;TZID=UTC:20230114T112000
DTEND;TZID=UTC:20230114T114000
DTSTAMP:20260420T135008
CREATED:20230111T084628Z
LAST-MODIFIED:20230113T093919Z
UID:7502-1673695200-1673696400@thymiscompetition.gr
SUMMARY:Yuting Chen (CHINA)
DESCRIPTION:Repertoire \nJ. S. Bach  Prelude & Fugue in A minor\, BWV 865 (WTC 1)\nJ. Haydn  Sonata in C major\, Hob. XVI:50 – i. Allegro\nF. Chopin  Etude in F major\, Op. 10 No. 8\nC. Debussy  Etude No. 12 “Pour Les Accords”
URL:https://thymiscompetition.gr/en/event/yuting-chen-china/
LOCATION:Thessaloniki State Symphony Orchestra “Solon Michaelides” concert hall\, Nikis avenue 73\, Thessaloniki\, 54622\, Ελλάδα
CATEGORIES:Preliminary Round
ATTACH;FMTTYPE=image/jpeg:https://thymiscompetition.gr/wp-content/uploads/2023/01/IMG_0666-scaled.jpg
ORGANIZER;CN="Friends%E2%80%99 Society of the Thessaloniki State Symphony Orchestra":MAILTO:info@thymiscompetition.gr
END:VEVENT
BEGIN:VEVENT
DTSTART;TZID=UTC:20230114T110000
DTEND;TZID=UTC:20230114T112000
DTSTAMP:20260420T135008
CREATED:20230111T202104Z
LAST-MODIFIED:20230113T093807Z
UID:7580-1673694000-1673695200@thymiscompetition.gr
SUMMARY:Yuewen Yu (CHINA)
DESCRIPTION:Repertoire \nJ. S. Bach  Prelude & Fugue in A-flat major\, BWV 886 (WTC 2)\nJ. Haydn  Sonata in C major\, Hob. XVI:50 – i. Allegro\nF. Chopin  Etude in C major\, Op. 10 No. 1\nC. Debussy  Etude No. 11 “Pour les arpèges composés”
URL:https://thymiscompetition.gr/en/event/yuewen-yu-china/
LOCATION:Thessaloniki State Symphony Orchestra “Solon Michaelides” concert hall\, Nikis avenue 73\, Thessaloniki\, 54622\, Ελλάδα
CATEGORIES:Preliminary Round
ATTACH;FMTTYPE=image/jpeg:https://thymiscompetition.gr/wp-content/uploads/2023/01/2017_09_19_14_50_IMG_0030-scaled.jpg
ORGANIZER;CN="Friends%E2%80%99 Society of the Thessaloniki State Symphony Orchestra":MAILTO:info@thymiscompetition.gr
END:VEVENT
BEGIN:VEVENT
DTSTART;TZID=UTC:20230113T194000
DTEND;TZID=UTC:20230113T200000
DTSTAMP:20260420T135008
CREATED:20230111T202256Z
LAST-MODIFIED:20230113T093640Z
UID:7584-1673638800-1673640000@thymiscompetition.gr
SUMMARY:Grigorios Ioannou (GREECE)
DESCRIPTION:Repertoire \nJ. S. Bach  Prelude & Fugue in B-ﬂat minor\, BWV 867 (WTC 1)\nW. A. Mozart  Sonata No. 8 in A minor\, KV 310 – i. Allegro maestoso\nF. Chopin  Etude in B minor\, Οp. 25 No. 10\nS. Rachmaninoff  Etude-Tableau in  E-ﬂat minor\, Op. 39 No. 5
URL:https://thymiscompetition.gr/en/event/grigorios-ioannou-greece/
LOCATION:Thessaloniki State Symphony Orchestra “Solon Michaelides” concert hall\, Nikis avenue 73\, Thessaloniki\, 54622\, Ελλάδα
CATEGORIES:Preliminary Round
ATTACH;FMTTYPE=image/jpeg:https://thymiscompetition.gr/wp-content/uploads/2023/01/Picture-1-scaled.jpeg
ORGANIZER;CN="Friends%E2%80%99 Society of the Thessaloniki State Symphony Orchestra":MAILTO:info@thymiscompetition.gr
END:VEVENT
BEGIN:VEVENT
DTSTART;TZID=UTC:20230113T192000
DTEND;TZID=UTC:20230113T194000
DTSTAMP:20260420T135008
CREATED:20230111T205244Z
LAST-MODIFIED:20230113T093526Z
UID:7620-1673637600-1673638800@thymiscompetition.gr
SUMMARY:Filivos Gkatzios (GREECE)
DESCRIPTION:Repertoire \nJ. S. Bach  Prelude & Fugue in C-sharp minor\, BWV 849 (WTC 1) \nW. A. Mozart  Sonata No. 13 in B-ﬂat major\, KV 333 – i. Allegro \nF. Chopin  Etude in G-ﬂat major\, Οp. 10 No. 5\n \nS. Rachmaninoff  Etude-Tableau in C minor\, Op. 39 No. 1
URL:https://thymiscompetition.gr/en/event/filivos-gkatzios-greece/
LOCATION:Thessaloniki State Symphony Orchestra “Solon Michaelides” concert hall\, Nikis avenue 73\, Thessaloniki\, 54622\, Ελλάδα
CATEGORIES:Preliminary Round
ATTACH;FMTTYPE=image/jpeg:https://thymiscompetition.gr/wp-content/uploads/2023/01/ADCC38B9-B248-455C-B20E-5FC4CAC65AC6_1_201_a-scaled.jpeg
ORGANIZER;CN="Friends%E2%80%99 Society of the Thessaloniki State Symphony Orchestra":MAILTO:info@thymiscompetition.gr
END:VEVENT
BEGIN:VEVENT
DTSTART;TZID=UTC:20230113T190000
DTEND;TZID=UTC:20230113T192000
DTSTAMP:20260420T135008
CREATED:20230111T092746Z
LAST-MODIFIED:20230113T093418Z
UID:7556-1673636400-1673637600@thymiscompetition.gr
SUMMARY:Bowen Lei (CHINA)
DESCRIPTION:Repertoire \nJ. S. Bach  Prelude & Fugue in A-ﬂat major\, BWV 886 (WTC 2) \nW. A. Mozart  Sonata No. 12 in F major\, KV 332 – iii. Allegro assai \nF. Chopin  Etude in Ε minor\, Op. 25 No. 5 \nS. Rachmaninoff  Etude-Tableau in E-ﬂat minor\, Op. 33 No. 6
URL:https://thymiscompetition.gr/en/event/bowen-lei-china/
LOCATION:Thessaloniki State Symphony Orchestra “Solon Michaelides” concert hall\, Nikis avenue 73\, Thessaloniki\, 54622\, Ελλάδα
CATEGORIES:Preliminary Round
ORGANIZER;CN="Friends%E2%80%99 Society of the Thessaloniki State Symphony Orchestra":MAILTO:info@thymiscompetition.gr
END:VEVENT
BEGIN:VEVENT
DTSTART;TZID=UTC:20230113T184000
DTEND;TZID=UTC:20230113T190000
DTSTAMP:20260420T135008
CREATED:20230111T210231Z
LAST-MODIFIED:20230113T093301Z
UID:7636-1673635200-1673636400@thymiscompetition.gr
SUMMARY:Jungeun Oh (S. KOREA)
DESCRIPTION:Repertoire \nJ. S. Bach  Prelude & Fugue in E-ﬂat major BWV 876 (WTC 2)\nJ. Haydn  Sonata in A-flat major\, Hob.XVI:46 – i. Allegro moderato\nF. Chopin  Etude in C major\, Οp. 10 No. 1\nS. Rachmaninoff  Etude-Tableau in  D major\, Op. 39 No. 9
URL:https://thymiscompetition.gr/en/event/jungeun-oh-s-korea/
LOCATION:Thessaloniki State Symphony Orchestra “Solon Michaelides” concert hall\, Nikis avenue 73\, Thessaloniki\, 54622\, Ελλάδα
CATEGORIES:Preliminary Round
ATTACH;FMTTYPE=image/jpeg:https://thymiscompetition.gr/wp-content/uploads/2023/01/Kunstlerphoto-1.jpg
ORGANIZER;CN="Friends%E2%80%99 Society of the Thessaloniki State Symphony Orchestra":MAILTO:info@thymiscompetition.gr
END:VEVENT
BEGIN:VEVENT
DTSTART;TZID=UTC:20230113T180000
DTEND;TZID=UTC:20230113T182000
DTSTAMP:20260420T135008
CREATED:20230111T201619Z
LAST-MODIFIED:20230113T104746Z
UID:7572-1673632800-1673634000@thymiscompetition.gr
SUMMARY:Umberto Ruboni (ITALY)
DESCRIPTION:Repertoire\n\nJ. S. Bach  Prelude & Fugue in C-sharp minor\, BWV 849 (WTC 1)\nJ. Haydn  Sonata in E-ﬂat major\, Hob. XVI:52 – i. Allegro\nF. Chopin  Etude in C major\, Op. 10 No. 1\nS. Rachmaninoff  Etude-Tableau in A minor\, Op. 39 No. 6
URL:https://thymiscompetition.gr/en/event/umberto-ruboni-italy/
LOCATION:Thessaloniki State Symphony Orchestra “Solon Michaelides” concert hall\, Nikis avenue 73\, Thessaloniki\, 54622\, Ελλάδα
CATEGORIES:Preliminary Round
ATTACH;FMTTYPE=image/jpeg:https://thymiscompetition.gr/wp-content/uploads/2023/01/Glafsfjorden-2022.jpg
ORGANIZER;CN="Friends%E2%80%99 Society of the Thessaloniki State Symphony Orchestra":MAILTO:info@thymiscompetition.gr
END:VEVENT
BEGIN:VEVENT
DTSTART;TZID=UTC:20230113T174000
DTEND;TZID=UTC:20230113T180000
DTSTAMP:20260420T135008
CREATED:20230111T092308Z
LAST-MODIFIED:20230113T104654Z
UID:7552-1673631600-1673632800@thymiscompetition.gr
SUMMARY:Tamari Jincharadze (GEORGIA)
DESCRIPTION:Repertoire \nJ. S. Bach  Prelude & Fugue in G-sharp minor\, BWV 863 (WTC 1)\nW. A. Mozart  Sonata No. 8 in A minor\, KV 310 – i. Allegro maestoso\nF. Chopin  Etude in C-sharp minor\, Οp. 10 No. 4\nF. Liszt  Concert Etude No. 2 in F minor “La leggierezza”
URL:https://thymiscompetition.gr/en/event/tamari-jincharadze-georgia/
LOCATION:Thessaloniki State Symphony Orchestra “Solon Michaelides” concert hall\, Nikis avenue 73\, Thessaloniki\, 54622\, Ελλάδα
CATEGORIES:Preliminary Round
ATTACH;FMTTYPE=image/jpeg:https://thymiscompetition.gr/wp-content/uploads/2023/01/IMG_5635.jpg
ORGANIZER;CN="Friends%E2%80%99 Society of the Thessaloniki State Symphony Orchestra":MAILTO:info@thymiscompetition.gr
END:VEVENT
BEGIN:VEVENT
DTSTART;TZID=UTC:20230113T172000
DTEND;TZID=UTC:20230113T174000
DTSTAMP:20260420T135008
CREATED:20230111T204820Z
LAST-MODIFIED:20230113T104606Z
UID:7612-1673630400-1673631600@thymiscompetition.gr
SUMMARY:Linda Lee (S. KOREA)
DESCRIPTION:Repertoire \nJ. S. Bach  Prelude & Fugue in C-sharp minor\, BWV 849 (WTC 1) \nW. A. Mozart  Sonata No. 3 in B-ﬂat major\, KV 281 – iii. Allegro\n \nF. Chopin  Etude in A-ﬂat major\, Οp. 10 No. 10\n \nS. Rachmaninoff  Etude-Tableau in C minor\, Op. 39 No. 1
URL:https://thymiscompetition.gr/en/event/linda-lee-s-korea/
LOCATION:Thessaloniki State Symphony Orchestra “Solon Michaelides” concert hall\, Nikis avenue 73\, Thessaloniki\, 54622\, Ελλάδα
CATEGORIES:Preliminary Round
ATTACH;FMTTYPE=image/jpeg:https://thymiscompetition.gr/wp-content/uploads/2023/01/profile-photo-2-scaled.jpg
ORGANIZER;CN="Friends%E2%80%99 Society of the Thessaloniki State Symphony Orchestra":MAILTO:info@thymiscompetition.gr
END:VEVENT
BEGIN:VEVENT
DTSTART;TZID=UTC:20230113T170000
DTEND;TZID=UTC:20230113T172000
DTSTAMP:20260420T135008
CREATED:20230111T203941Z
LAST-MODIFIED:20230113T104458Z
UID:7600-1673629200-1673630400@thymiscompetition.gr
SUMMARY:Mizuho Furukubo (JAPAN)
DESCRIPTION:Repertoire \nJ. S. Bach  Prelude & Fugue in E major\, BWV 878 (WTC 2)\nJ. Haydn  Sonata in E-ﬂat major\, Hob. XVI:52 – i. Allegro\nF. Chopin  Etude in F major\, Οp. 10 No. 8\nS. Rachmaninoff  Etude-Tableau in  D major\, Op. 39 No. 9
URL:https://thymiscompetition.gr/en/event/mizuho-furukubo-japan/
LOCATION:Thessaloniki State Symphony Orchestra “Solon Michaelides” concert hall\, Nikis avenue 73\, Thessaloniki\, 54622\, Ελλάδα
CATEGORIES:Preliminary Round
ATTACH;FMTTYPE=image/jpeg:https://thymiscompetition.gr/wp-content/uploads/2023/01/DSC07645-1-scaled.jpg
ORGANIZER;CN="Friends%E2%80%99 Society of the Thessaloniki State Symphony Orchestra":MAILTO:info@thymiscompetition.gr
END:VEVENT
END:VCALENDAR